Package: scDD Version: 1.32.0 Command: /Library/Frameworks/R.framework/Resources/bin/R CMD build --keep-empty-dirs --no-resave-data scDD StartedAt: 2025-10-13 22:19:34 -0400 (Mon, 13 Oct 2025) EndedAt: 2025-10-13 22:24:28 -0400 (Mon, 13 Oct 2025) EllapsedTime: 294.2 seconds RetCode: 0 Status: OK PackageFile: scDD_1.32.0.tar.gz PackageFileSize: 846.6 KiB