Package: scDD Version: 1.32.0 Command: rm -rf scDD.buildbin-libdir && mkdir scDD.buildbin-libdir && /Users/biocbuild/BBS/utils/build-universal.sh scDD_1.32.0.tar.gz /Library/Frameworks/R.framework/Resources/bin/R scDD.buildbin-libdir StartedAt: 2025-10-14 14:41:59 -0400 (Tue, 14 Oct 2025) EndedAt: 2025-10-14 14:43:38 -0400 (Tue, 14 Oct 2025) EllapsedTime: 99.3 seconds RetCode: 0 Status: OK PackageFile: scDD_1.32.0.tgz PackageFileSize: 1024 KiB