Package: scDD Version: 1.32.0 Command: /home/biocbuild/R/R/bin/R CMD INSTALL scDD StartedAt: 2025-10-13 21:16:57 -0000 (Mon, 13 Oct 2025) EndedAt: 2025-10-13 21:17:47 -0000 (Mon, 13 Oct 2025) EllapsedTime: 50.2 seconds RetCode: 0 Status: OK