Package: scDD Version: 1.32.0 Command: /home/biocbuild/R/R/bin/R CMD check --install=check:scDD.install-out.txt --library=/home/biocbuild/R/R/site-library --no-vignettes --timings scDD_1.32.0.tar.gz StartedAt: 2025-10-14 13:49:35 -0000 (Tue, 14 Oct 2025) EndedAt: 2025-10-14 13:56:48 -0000 (Tue, 14 Oct 2025) EllapsedTime: 433.5 seconds RetCode: 0 Status: OK CheckDir: scDD.Rcheck Warnings: 0