Package: scDD Version: 1.32.0 Command: /Library/Frameworks/R.framework/Resources/bin/R CMD INSTALL scDD StartedAt: 2025-10-13 18:21:18 -0400 (Mon, 13 Oct 2025) EndedAt: 2025-10-13 18:22:00 -0400 (Mon, 13 Oct 2025) EllapsedTime: 41.6 seconds RetCode: 0 Status: OK