Package: scDD Version: 1.32.0 Command: /Library/Frameworks/R.framework/Resources/bin/R CMD check --install=check:scDD.install-out.txt --library=/Library/Frameworks/R.framework/Resources/library --no-vignettes --timings scDD_1.32.0.tar.gz StartedAt: 2025-10-15 11:15:29 -0400 (Wed, 15 Oct 2025) EndedAt: 2025-10-15 11:21:01 -0400 (Wed, 15 Oct 2025) EllapsedTime: 332.6 seconds RetCode: 0 Status: OK CheckDir: scDD.Rcheck Warnings: 0