Package: scClassify Version: 1.22.0 Command: /home/biocbuild/bbs-3.22-bioc/R/bin/R CMD check --install=check:scClassify.install-out.txt --library=/home/biocbuild/bbs-3.22-bioc/R/site-library --timings scClassify_1.22.0.tar.gz StartedAt: 2025-11-10 03:53:26 -0500 (Mon, 10 Nov 2025) EndedAt: 2025-11-10 04:01:14 -0500 (Mon, 10 Nov 2025) EllapsedTime: 467.8 seconds RetCode: 0 Status: OK CheckDir: scClassify.Rcheck Warnings: 0