Package: scClassify Version: 1.22.0 Command: /Library/Frameworks/R.framework/Resources/bin/R CMD INSTALL scClassify StartedAt: 2025-11-09 15:12:55 -0500 (Sun, 09 Nov 2025) EndedAt: 2025-11-09 15:13:10 -0500 (Sun, 09 Nov 2025) EllapsedTime: 14.8 seconds RetCode: 0 Status: OK