Package: scClassify Version: 1.22.0 Command: /Library/Frameworks/R.framework/Resources/bin/R CMD check --install=check:scClassify.install-out.txt --library=/Library/Frameworks/R.framework/Resources/library --no-vignettes --timings scClassify_1.22.0.tar.gz StartedAt: 2025-11-09 21:56:24 -0500 (Sun, 09 Nov 2025) EndedAt: 2025-11-09 21:58:57 -0500 (Sun, 09 Nov 2025) EllapsedTime: 153.7 seconds RetCode: 0 Status: OK CheckDir: scClassify.Rcheck Warnings: 0