Package: scBubbletree Version: 1.12.0 Command: /home/biocbuild/bbs-3.22-bioc/R/bin/R CMD INSTALL scBubbletree StartedAt: 2025-11-09 15:11:07 -0500 (Sun, 09 Nov 2025) EndedAt: 2025-11-09 15:11:31 -0500 (Sun, 09 Nov 2025) EllapsedTime: 24.0 seconds RetCode: 0 Status: OK