Package: scBFA Version: 1.22.0 Command: /Library/Frameworks/R.framework/Resources/bin/R CMD INSTALL scBFA StartedAt: 2025-10-13 15:51:57 -0400 (Mon, 13 Oct 2025) EndedAt: 2025-10-13 15:53:34 -0400 (Mon, 13 Oct 2025) EllapsedTime: 96.7 seconds RetCode: 0 Status: OK