Package: scBFA Version: 1.22.0 Command: /Library/Frameworks/R.framework/Resources/bin/R CMD check --install=check:scBFA.install-out.txt --library=/Library/Frameworks/R.framework/Resources/library --no-vignettes --timings scBFA_1.22.0.tar.gz StartedAt: 2025-10-14 09:47:35 -0400 (Tue, 14 Oct 2025) EndedAt: 2025-10-14 09:59:20 -0400 (Tue, 14 Oct 2025) EllapsedTime: 705.3 seconds RetCode: 0 Status: OK CheckDir: scBFA.Rcheck Warnings: 0