Package: scBFA Version: 1.22.0 Command: /Library/Frameworks/R.framework/Resources/bin/R CMD build --keep-empty-dirs --no-resave-data scBFA StartedAt: 2025-10-13 22:17:57 -0400 (Mon, 13 Oct 2025) EndedAt: 2025-10-13 22:21:04 -0400 (Mon, 13 Oct 2025) EllapsedTime: 187.0 seconds RetCode: 0 Status: OK PackageFile: scBFA_1.22.0.tar.gz PackageFileSize: 1.208 MiB