Package: scAnnotatR Version: 1.16.0 Command: /home/biocbuild/R/R/bin/R CMD build --keep-empty-dirs --no-resave-data scAnnotatR StartedAt: 2025-11-18 04:45:49 -0000 (Tue, 18 Nov 2025) EndedAt: 2025-11-18 04:57:01 -0000 (Tue, 18 Nov 2025) EllapsedTime: 671.9 seconds RetCode: 0 Status: OK PackageFile: scAnnotatR_1.16.0.tar.gz PackageFileSize: 504.4 KiB