Package: satuRn Version: 1.17.0 Command: F:\biocbuild\bbs-3.22-bioc\R\bin\R.exe CMD check --no-multiarch --install=check:satuRn.install-out.txt --library=F:\biocbuild\bbs-3.22-bioc\R\library --no-vignettes --timings satuRn_1.17.0.tar.gz StartedAt: 2025-08-15 07:25:38 -0400 (Fri, 15 Aug 2025) EndedAt: 2025-08-15 07:29:48 -0400 (Fri, 15 Aug 2025) EllapsedTime: 250.2 seconds RetCode: 0 Status: OK CheckDir: satuRn.Rcheck Warnings: 0