Package: satuRn Version: 1.18.0 Command: /Library/Frameworks/R.framework/Resources/bin/R CMD check --install=check:satuRn.install-out.txt --library=/Library/Frameworks/R.framework/Resources/library --no-vignettes --timings satuRn_1.18.0.tar.gz StartedAt: 2025-11-03 23:59:03 -0500 (Mon, 03 Nov 2025) EndedAt: 2025-11-04 00:02:54 -0500 (Tue, 04 Nov 2025) EllapsedTime: 230.8 seconds RetCode: 0 Status: OK CheckDir: satuRn.Rcheck Warnings: 0