Package: satuRn Version: 1.18.0 Command: rm -rf satuRn.buildbin-libdir && mkdir satuRn.buildbin-libdir && /Users/biocbuild/BBS/utils/build-universal.sh satuRn_1.18.0.tar.gz /Library/Frameworks/R.framework/Resources/bin/R satuRn.buildbin-libdir StartedAt: 2025-11-04 02:01:40 -0500 (Tue, 04 Nov 2025) EndedAt: 2025-11-04 02:02:18 -0500 (Tue, 04 Nov 2025) EllapsedTime: 38.0 seconds RetCode: 0 Status: OK PackageFile: satuRn_1.18.0.tgz PackageFileSize: 3.747 MiB