Package: satuRn Version: 1.18.0 Command: /Library/Frameworks/R.framework/Resources/bin/R CMD INSTALL satuRn StartedAt: 2025-11-06 15:13:49 -0500 (Thu, 06 Nov 2025) EndedAt: 2025-11-06 15:14:00 -0500 (Thu, 06 Nov 2025) EllapsedTime: 10.7 seconds RetCode: 0 Status: OK