Package: satuRn Version: 1.18.0 Command: /Library/Frameworks/R.framework/Resources/bin/R CMD build --keep-empty-dirs --no-resave-data satuRn StartedAt: 2025-11-06 17:35:49 -0500 (Thu, 06 Nov 2025) EndedAt: 2025-11-06 17:36:23 -0500 (Thu, 06 Nov 2025) EllapsedTime: 34.4 seconds RetCode: 0 Status: OK PackageFile: satuRn_1.18.0.tar.gz PackageFileSize: 3.694 MiB