Package: satuRn Version: 1.18.0 Maintainer: Jeroen Gilis MaintainerEmail: jeroen.gilis at ugent.be git_url: https://git.bioconductor.org/packages/satuRn git_branch: RELEASE_3_22 git_last_commit: 20071e7 git_last_commit_date: 2025-10-29 11:06:23 -0500 (Wed, 29 Oct 2025)