Package: sampleClassifier Version: 1.33.0 Command: /home/biocbuild/R/R/bin/R CMD check --install=check:sampleClassifier.install-out.txt --library=/home/biocbuild/R/R/site-library --no-vignettes --timings sampleClassifier_1.33.0.tar.gz StartedAt: 2025-10-17 13:09:23 -0000 (Fri, 17 Oct 2025) EndedAt: 2025-10-17 13:14:24 -0000 (Fri, 17 Oct 2025) EllapsedTime: 300.5 seconds RetCode: 0 Status: OK CheckDir: sampleClassifier.Rcheck Warnings: 0