Package: sagenhaft Version: 1.79.0 Command: F:\biocbuild\bbs-3.22-bioc\R\bin\R.exe CMD INSTALL sagenhaft StartedAt: 2025-08-14 15:17:30 -0400 (Thu, 14 Aug 2025) EndedAt: 2025-08-14 15:17:43 -0400 (Thu, 14 Aug 2025) EllapsedTime: 12.8 seconds RetCode: 0 Status: OK