Package: sagenhaft Version: 1.79.0 Command: chmod a+r sagenhaft -R && F:\biocbuild\bbs-3.22-bioc\R\bin\R.exe CMD build --keep-empty-dirs --no-resave-data sagenhaft StartedAt: 2025-08-14 22:57:25 -0400 (Thu, 14 Aug 2025) EndedAt: 2025-08-14 22:58:25 -0400 (Thu, 14 Aug 2025) EllapsedTime: 60.5 seconds RetCode: 0 Status: OK PackageFile: sagenhaft_1.79.0.tar.gz PackageFileSize: 2.5 MiB