Package: sSeq Version: 1.48.0 Command: /home/biocbuild/bbs-3.22-bioc/R/bin/R CMD check --install=check:sSeq.install-out.txt --library=/home/biocbuild/bbs-3.22-bioc/R/site-library --timings sSeq_1.48.0.tar.gz StartedAt: 2025-11-10 04:50:10 -0500 (Mon, 10 Nov 2025) EndedAt: 2025-11-10 04:53:44 -0500 (Mon, 10 Nov 2025) EllapsedTime: 214.3 seconds RetCode: 0 Status: OK CheckDir: sSeq.Rcheck Warnings: 0