Package: sSeq Version: 1.48.0 Command: /home/biocbuild/bbs-3.22-bioc/R/bin/R CMD build --keep-empty-dirs --no-resave-data --md5 sSeq StartedAt: 2025-11-09 20:31:21 -0500 (Sun, 09 Nov 2025) EndedAt: 2025-11-09 20:32:26 -0500 (Sun, 09 Nov 2025) EllapsedTime: 65.1 seconds RetCode: 0 Status: OK PackageFile: sSeq_1.48.0.tar.gz PackageFileSize: 4.203 MiB