Package: sSNAPPY Version: 1.13.0 Command: chmod a+r sSNAPPY -R && F:\biocbuild\bbs-3.22-bioc\R\bin\R.exe CMD build --keep-empty-dirs --no-resave-data sSNAPPY StartedAt: 2025-08-14 23:35:47 -0400 (Thu, 14 Aug 2025) EndedAt: 2025-08-14 23:46:24 -0400 (Thu, 14 Aug 2025) EllapsedTime: 637.6 seconds RetCode: 0 Status: OK PackageFile: sSNAPPY_1.13.0.tar.gz PackageFileSize: 2.318 MiB