Package: sSNAPPY Version: 1.14.0 Command: /home/biocbuild/bbs-3.22-bioc/R/bin/R CMD INSTALL sSNAPPY StartedAt: 2025-11-06 15:35:49 -0500 (Thu, 06 Nov 2025) EndedAt: 2025-11-06 15:36:21 -0500 (Thu, 06 Nov 2025) EllapsedTime: 32.2 seconds RetCode: 0 Status: OK