Package: sSNAPPY Version: 1.14.0 Command: /home/biocbuild/bbs-3.22-bioc/R/bin/R CMD check --install=check:sSNAPPY.install-out.txt --library=/home/biocbuild/bbs-3.22-bioc/R/site-library --timings sSNAPPY_1.14.0.tar.gz StartedAt: 2025-11-07 04:35:16 -0500 (Fri, 07 Nov 2025) EndedAt: 2025-11-07 04:50:45 -0500 (Fri, 07 Nov 2025) EllapsedTime: 929.0 seconds RetCode: 0 Status: OK CheckDir: sSNAPPY.Rcheck Warnings: 0