Package: sRACIPE Version: 2.2.0 Command: /home/biocbuild/bbs-3.22-bioc/R/bin/R CMD build --keep-empty-dirs --no-resave-data --md5 sRACIPE StartedAt: 2025-11-20 21:11:34 -0500 (Thu, 20 Nov 2025) EndedAt: 2025-11-20 21:12:43 -0500 (Thu, 20 Nov 2025) EllapsedTime: 69.1 seconds RetCode: 0 Status: OK PackageFile: sRACIPE_2.2.0.tar.gz PackageFileSize: 1.986 MiB