Package: sRACIPE Version: 2.2.0 Command: /Library/Frameworks/R.framework/Resources/bin/R CMD INSTALL sRACIPE StartedAt: 2025-11-20 16:52:38 -0500 (Thu, 20 Nov 2025) EndedAt: 2025-11-20 16:53:33 -0500 (Thu, 20 Nov 2025) EllapsedTime: 55.6 seconds RetCode: 0 Status: OK