Package: runibic Version: 1.32.0 Command: /home/biocbuild/bbs-3.22-bioc/R/bin/R CMD INSTALL runibic StartedAt: 2025-11-06 15:37:41 -0500 (Thu, 06 Nov 2025) EndedAt: 2025-11-06 15:38:21 -0500 (Thu, 06 Nov 2025) EllapsedTime: 39.6 seconds RetCode: 0 Status: OK