Package: runibic Version: 1.32.0 Command: /home/biocbuild/bbs-3.22-bioc/R/bin/R CMD check --install=check:runibic.install-out.txt --library=/home/biocbuild/bbs-3.22-bioc/R/site-library --timings runibic_1.32.0.tar.gz StartedAt: 2025-11-07 03:31:00 -0500 (Fri, 07 Nov 2025) EndedAt: 2025-11-07 03:33:53 -0500 (Fri, 07 Nov 2025) EllapsedTime: 173.2 seconds RetCode: 0 Status: OK CheckDir: runibic.Rcheck Warnings: 0