Package: rtracklayer Version: 1.68.0 Command: rm -rf rtracklayer.buildbin-libdir && mkdir rtracklayer.buildbin-libdir && /Users/biocbuild/BBS/utils/build-universal.sh rtracklayer_1.68.0.tar.gz /Library/Frameworks/R.framework/Resources/bin/R rtracklayer.buildbin-libdir StartedAt: 2025-04-21 22:50:20 -0400 (Mon, 21 Apr 2025) EndedAt: 2025-04-21 22:50:44 -0400 (Mon, 21 Apr 2025) EllapsedTime: 23.6 seconds RetCode: 0 Status: OK PackageFile: rtracklayer_1.68.0.tgz PackageFileSize: 7.582 MiB