Package: rsemmed Version: 1.20.0 Command: /home/biocbuild/R/R/bin/R CMD INSTALL rsemmed StartedAt: 2025-11-17 21:13:29 -0000 (Mon, 17 Nov 2025) EndedAt: 2025-11-17 21:13:41 -0000 (Mon, 17 Nov 2025) EllapsedTime: 13.0 seconds RetCode: 0 Status: OK