Package: rsemmed Version: 1.20.0 Command: /home/biocbuild/R/R/bin/R CMD check --install=check:rsemmed.install-out.txt --library=/home/biocbuild/R/R/site-library --no-vignettes --timings rsemmed_1.20.0.tar.gz StartedAt: 2025-11-21 15:09:50 -0000 (Fri, 21 Nov 2025) EndedAt: 2025-11-21 15:10:38 -0000 (Fri, 21 Nov 2025) EllapsedTime: 48.1 seconds RetCode: 0 Status: OK CheckDir: rsemmed.Rcheck Warnings: 0