Package: rsemmed Version: 1.20.0 Command: /home/biocbuild/bbs-3.22-bioc/R/bin/R CMD check --install=check:rsemmed.install-out.txt --library=/home/biocbuild/bbs-3.22-bioc/R/site-library --timings rsemmed_1.20.0.tar.gz StartedAt: 2025-11-10 03:43:48 -0500 (Mon, 10 Nov 2025) EndedAt: 2025-11-10 03:44:39 -0500 (Mon, 10 Nov 2025) EllapsedTime: 51.0 seconds RetCode: 0 Status: OK CheckDir: rsemmed.Rcheck Warnings: 0