Package: rsemmed Version: 1.20.0 Command: /home/biocbuild/bbs-3.22-bioc/R/bin/R CMD build --keep-empty-dirs --no-resave-data --md5 rsemmed StartedAt: 2025-11-10 19:52:57 -0500 (Mon, 10 Nov 2025) EndedAt: 2025-11-10 19:53:20 -0500 (Mon, 10 Nov 2025) EllapsedTime: 23.0 seconds RetCode: 0 Status: OK PackageFile: rsemmed_1.20.0.tar.gz PackageFileSize: 2.222 MiB