Package: rsbml Version: 2.67.0 Command: /home/biocbuild/R/R/bin/R CMD build --keep-empty-dirs --no-resave-data rsbml StartedAt: 2025-10-21 02:39:47 -0000 (Tue, 21 Oct 2025) EndedAt: 2025-10-21 02:39:50 -0000 (Tue, 21 Oct 2025) EllapsedTime: 3.0 seconds RetCode: 1 Status: ERROR PackageFile: None PackageFileSize: NA