Package: rsbml Version: 2.68.0 Command: /home/biocbuild/bbs-3.22-bioc/R/bin/R CMD INSTALL rsbml StartedAt: 2025-11-06 15:11:59 -0500 (Thu, 06 Nov 2025) EndedAt: 2025-11-06 15:12:15 -0500 (Thu, 06 Nov 2025) EllapsedTime: 16.0 seconds RetCode: 0 Status: OK