Package: rrvgo Version: 1.22.0 Command: /home/biocbuild/R/R/bin/R CMD build --keep-empty-dirs --no-resave-data rrvgo StartedAt: 2025-11-18 04:38:19 -0000 (Tue, 18 Nov 2025) EndedAt: 2025-11-18 04:41:49 -0000 (Tue, 18 Nov 2025) EllapsedTime: 209.2 seconds RetCode: 0 Status: OK PackageFile: rrvgo_1.22.0.tar.gz PackageFileSize: 1.551 MiB