Package: rrvgo Version: 1.22.0 Command: /home/biocbuild/bbs-3.22-bioc/R/bin/R CMD INSTALL rrvgo StartedAt: 2025-11-17 18:00:52 -0500 (Mon, 17 Nov 2025) EndedAt: 2025-11-17 18:01:13 -0500 (Mon, 17 Nov 2025) EllapsedTime: 21.1 seconds RetCode: 0 Status: OK