Package: rrvgo Version: 1.20.0 Command: /home/biocbuild/bbs-3.21-bioc/R/bin/R CMD check --install=check:rrvgo.install-out.txt --library=/home/biocbuild/bbs-3.21-bioc/R/site-library --timings rrvgo_1.20.0.tar.gz StartedAt: 2025-10-16 03:03:45 -0400 (Thu, 16 Oct 2025) EndedAt: 2025-10-16 03:23:54 -0400 (Thu, 16 Oct 2025) EllapsedTime: 1208.7 seconds RetCode: 0 Status: OK CheckDir: rrvgo.Rcheck Warnings: 0