Package: rqt Version: 1.34.0 Command: /Library/Frameworks/R.framework/Resources/bin/R CMD check --install=check:rqt.install-out.txt --library=/Library/Frameworks/R.framework/Resources/library --no-vignettes --timings rqt_1.34.0.tar.gz StartedAt: 2025-10-07 09:19:11 -0400 (Tue, 07 Oct 2025) EndedAt: 2025-10-07 09:25:37 -0400 (Tue, 07 Oct 2025) EllapsedTime: 385.7 seconds RetCode: 0 Status: OK CheckDir: rqt.Rcheck Warnings: 0