Package: rpx Version: 2.18.0 Command: /home/biocbuild/R/R/bin/R CMD build --keep-empty-dirs --no-resave-data rpx StartedAt: 2025-11-21 05:22:17 -0000 (Fri, 21 Nov 2025) EndedAt: 2025-11-21 05:22:40 -0000 (Fri, 21 Nov 2025) EllapsedTime: 23.0 seconds RetCode: 0 Status: OK PackageFile: rpx_2.18.0.tar.gz PackageFileSize: 384.3 KiB