Package: rpx Version: 2.18.0 Command: /home/biocbuild/bbs-3.22-bioc/R/bin/R CMD INSTALL rpx StartedAt: 2025-11-09 15:09:01 -0500 (Sun, 09 Nov 2025) EndedAt: 2025-11-09 15:09:06 -0500 (Sun, 09 Nov 2025) EllapsedTime: 5.5 seconds RetCode: 0 Status: OK