Package: rprimer Version: 1.13.0 Command: F:\biocbuild\bbs-3.22-bioc\R\bin\R.exe CMD check --no-multiarch --install=check:rprimer.install-out.txt --library=F:\biocbuild\bbs-3.22-bioc\R\library --no-vignettes --timings rprimer_1.13.0.tar.gz StartedAt: 2025-08-15 07:16:32 -0400 (Fri, 15 Aug 2025) EndedAt: 2025-08-15 07:20:22 -0400 (Fri, 15 Aug 2025) EllapsedTime: 230.2 seconds RetCode: 0 Status: OK CheckDir: rprimer.Rcheck Warnings: 0