Package: rprimer Version: 1.14.0 Command: /Library/Frameworks/R.framework/Resources/bin/R CMD INSTALL rprimer StartedAt: 2025-11-03 15:23:12 -0500 (Mon, 03 Nov 2025) EndedAt: 2025-11-03 15:23:39 -0500 (Mon, 03 Nov 2025) EllapsedTime: 27.3 seconds RetCode: 0 Status: OK