Package: rprimer Version: 1.14.0 Command: /Library/Frameworks/R.framework/Resources/bin/R CMD check --install=check:rprimer.install-out.txt --library=/Library/Frameworks/R.framework/Resources/library --no-vignettes --timings rprimer_1.14.0.tar.gz StartedAt: 2025-11-03 23:53:12 -0500 (Mon, 03 Nov 2025) EndedAt: 2025-11-03 23:56:52 -0500 (Mon, 03 Nov 2025) EllapsedTime: 220.2 seconds RetCode: 0 Status: OK CheckDir: rprimer.Rcheck Warnings: 0