Package: rprimer Version: 1.14.0 Command: /Library/Frameworks/R.framework/Resources/bin/R CMD build --keep-empty-dirs --no-resave-data rprimer StartedAt: 2025-11-03 18:32:11 -0500 (Mon, 03 Nov 2025) EndedAt: 2025-11-03 18:33:32 -0500 (Mon, 03 Nov 2025) EllapsedTime: 81.0 seconds RetCode: 0 Status: OK PackageFile: rprimer_1.14.0.tar.gz PackageFileSize: 3.22 MiB