Package: ropls Version: 1.40.0 Command: /Library/Frameworks/R.framework/Resources/bin/R CMD check --install=check:ropls.install-out.txt --library=/Library/Frameworks/R.framework/Resources/library --no-vignettes --timings ropls_1.40.0.tar.gz StartedAt: 2025-04-21 21:19:26 -0400 (Mon, 21 Apr 2025) EndedAt: 2025-04-21 21:59:27 -0400 (Mon, 21 Apr 2025) EllapsedTime: 2400.7 seconds RetCode: None Status: TIMEOUT CheckDir: ropls.Rcheck Warnings: NA